BEGIN:VCALENDAR
VERSION:2.0
PRODID:-//http://www2.movingimage.us//NONSGML kigkonsult.se iCalcreator 2.10.23//
X-WR-TIMEZONE:America/New_York
BEGIN:VEVENT
UID:20260419T161357CEST-7822EBeZSm@http://www2.movingimage.us
DTSTAMP:20260419T141357Z
DESCRIPTION:Come in from the cold and take a break from the holidays with M
 oMI's Winter Recess drop-in activities. Activities include art making and 
 animation around winter-themed special effects\, puppet-making\, and more.
  Recommended for ages 4+ \n\n\nFree with Museum admission.
DTSTART:20181228T110000
DTEND:20181228T160000
LOCATION:Museum of the Moving Image - Digital Learning Suite
SUMMARY:Winter Recess Family Drop-In Activities
END:VEVENT
END:VCALENDAR
